BEGIN:VCALENDAR
VERSION:2.0
PRODID:-//Muse Enlighten - ECPv6.15.20//NONSGML v1.0//EN
CALSCALE:GREGORIAN
METHOD:PUBLISH
X-ORIGINAL-URL:https://museenlighten.com
X-WR-CALDESC:Events for Muse Enlighten
REFRESH-INTERVAL;VALUE=DURATION:PT1H
X-Robots-Tag:noindex
X-PUBLISHED-TTL:PT1H
BEGIN:VTIMEZONE
TZID:America/Toronto
BEGIN:DAYLIGHT
TZOFFSETFROM:-0500
TZOFFSETTO:-0400
TZNAME:EDT
DTSTART:20240310T070000
END:DAYLIGHT
BEGIN:STANDARD
TZOFFSETFROM:-0400
TZOFFSETTO:-0500
TZNAME:EST
DTSTART:20241103T060000
END:STANDARD
BEGIN:DAYLIGHT
TZOFFSETFROM:-0500
TZOFFSETTO:-0400
TZNAME:EDT
DTSTART:20250309T070000
END:DAYLIGHT
BEGIN:STANDARD
TZOFFSETFROM:-0400
TZOFFSETTO:-0500
TZNAME:EST
DTSTART:20251102T060000
END:STANDARD
BEGIN:DAYLIGHT
TZOFFSETFROM:-0500
TZOFFSETTO:-0400
TZNAME:EDT
DTSTART:20260308T070000
END:DAYLIGHT
BEGIN:STANDARD
TZOFFSETFROM:-0400
TZOFFSETTO:-0500
TZNAME:EST
DTSTART:20261101T060000
END:STANDARD
END:VTIMEZONE
BEGIN:VEVENT
DTSTART;TZID=America/Toronto:20251018T100000
DTEND;TZID=America/Toronto:20251018T160000
DTSTAMP:20260423T112450
CREATED:20250604T182233Z
LAST-MODIFIED:20250629T230232Z
UID:10000005-1760781600-1760803200@museenlighten.com
SUMMARY:Muskoka Holistic Healing Fair
DESCRIPTION:✨ Exciting News! ✨ \nI am a vendor at the Muskoka Holistic Healing Fair on Saturday\, October 18\, 2025\n🕙 10:00 AM – 4:00 PM \n📍 Bracebridge Fairgrounds – Town of\, 331 Fraserburg Rd\, Bracebridge\, ON P1L 0A1 \nStop by my table for an intuitive tarot reading — a powerful way to receive clarity\, insight\, and healing energy. 🔮 \n🌲 Make a day of it with family and friends as you explore the many amazing holistic vendors\, spiritual tools\, and wellness offerings. You never know what soul-nourishing treasures you’ll find! \n💫 Pre-book your reading to reserve your time and skip the wait.\n📩 Message me to secure your spot or use my contact form to get in touch. \nI can’t wait to share this day of connection\, healing\, and magic with you! \n \n 
URL:https://museenlighten.com/event/muskoka-holistic-healing-fair/
LOCATION:Bracebridge Fairgrounds\, 331 Fraserburg Rd\, Bracebridge\, Ontario\, P1L 0A1\, Canada
ATTACH;FMTTYPE=image/jpeg:https://museenlighten.com/wp-content/uploads/2025/06/Picture-of-Sue-Muise2.jpg
END:VEVENT
BEGIN:VEVENT
DTSTART;TZID=America/Toronto:20250912T163000
DTEND;TZID=America/Toronto:20250914T130000
DTSTAMP:20260423T112450
CREATED:20250531T200340Z
LAST-MODIFIED:20250628T163637Z
UID:10000002-1757694600-1757854800@museenlighten.com
SUMMARY:Spiritual Wellness Serenity Soul Retreat
DESCRIPTION:🌿✨ Spiritual Wellness Serenity Soul Retreat ✨🌿 \nA Sacred Space to Heal\, Reconnect\, and Rise \n📅 Friday\, September 12 – Sunday\, September 14\, 2025\n📍 Clonmel Castle | 150 Prospect Street\, Port Dover\, Ontario\n🕊️ Only 1.5 hours from Toronto – but a world away in peace. \nAre you yearning to unplug\, reset\, and truly reconnect with your soul?\nEscape the noise of daily life and step into a soul-nourishing sanctuary for a weekend of deep healing\, sacred stillness\, and spiritual renewal. \nJoin us for an unforgettable journey at the Spiritual Wellness Serenity Soul Retreat — held at the enchanting Clonmel Castle\, a lovingly restored 1926 estate surrounded by the calming embrace of nature and timeless elegance. \n🌿 What You’ll Experience:\n\n🏰 Stay at the Historic Clonmel Castle – Sleep like royalty in this beautifully restored 1926 estate. Let the charm and elegance of the castle transport you to another time as you rest\, restore\, and reconnect.\n🌲 Forest Bathing – Immerse yourself in the calming energy of the trees. Breathe deeply\, ground into the Earth\, and awaken your senses in nature’s quiet embrace.\n🏖️ Beach Relaxation – Just minutes from the retreat\, unwind on the shores of Lake Erie. Let the rhythmic waves wash over you as you release stress and welcome serenity.\n🔔 Heart Chakra Sound Bath – Bathe in the healing vibrations of crystal singing bowls. Soften emotional tension\, restore energetic balance\, and open your heart to deep healing.\n🔥 Sacred Fire Ceremony – Gather in sacred circle and release what no longer serves you. Through flame and intention\, call in transformation and renewal.\n🌀 Energy Healing Sessions – Clear energetic blockages\, realign your chakras\, and experience a renewed sense of balance and vitality.\n🔮 Mini Tarot Readings – Receive intuitive insights and divine guidance to illuminate your soul’s path and purpose.\n🧘‍♀️ Grounding Movement – Flow through gentle\, intentional practices that bring you back into your body and center you in the present moment.\n💫 Gratitude Rituals – Elevate your vibration and open your heart with daily gratitude practices that anchor you in love\, presence\, and abundance.\n🥗 Wholesome\, Nourishing Meals – Enjoy delicious\, high-vibe meals crafted to fuel your body and support your inner healing journey.\n💧 Outdoor Hot Tub Soaks – Relax beneath the open sky as warm water and stillness melt away physical and emotional tension.\n\n💖 Why You’ll Fall in Love With This Retreat\nIf you’ve been feeling overwhelmed\, emotionally drained\, or simply craving space to breathe — this is your sacred invitation to pause\, realign\, and come home to yourself. \nYou’ll leave this weekend feeling: \n✨ Lighter in your heart\n✨ Clearer in your mind\n✨ Reconnected to your soul’s truth\n✨ Spiritually renewed\, grounded\, and empowered \nSurrounded by nature\, sisterhood\, and soulful intention\, this retreat offers the healing magic your spirit has been longing for. It’s a gentle yet powerful return to you — held in love\, guided by peace\, and infused with transformation. \n⚠️ Limited Spots Available – Reserve Yours Today! \nThis intimate retreat is intentionally small to ensure a deeply personal and sacred experience. \n🌟 Spots are filling quickly – don’t wait.\n✨ You deserve this. You’re ready for this.\n💫 Your soul is calling… will you answer? \n👉 Reserve Your Spot Now 👈 \nLet this be your moment to rise. We’ll meet you at the castle. 🏰🌿 \n \n📅 Retreat Dates:\nFriday\, September 12 – Sunday\, September 14\, 2025 \n📍 Location:\nClonmel Castle\n150 Prospect Street\, Port Dover\, Ontario\, Canada\n(Just 1.5 hours from Toronto – a peaceful escape from the everyday.) \n💸 Your Investment:\n$750.00 + HST\nThis all-inclusive experience covers:\n✔️ All transformative retreat activities\n✔️ All nourishing meals throughout the weekend\n✔️ All healing materials and supplies \n✨ Everything is taken care of – all you have to do is show up for yourself. \n \n🍁 Fall Retreat Itinerary\n🌿 Spiritual Wellness Serenity Soul Retreat\nSeptember 12–14\, 2025\nA sacred space to heal\, reconnect\, and rise \nFriday\, September 12 – Arrival & Grounding\n4:00 PM – Arrival & Check-In\nWelcome to Clonmel Castle. Settle into your room\, explore the castle grounds\, and begin to unwind as you step into sacred space. \n6:00 PM – Welcome Dinner\nGather for a nourishing meal and connect with fellow retreat guests in a warm\, welcoming environment. \n7:30 PM – Heart Chakra Sound Bath Meditation\nA gentle\, heart-opening journey with crystal sound bowls to help release tension and open the heart space. \n8:30 PM – Journaling & Gratitude Practice + Mini Tarot Readings\nReflect on your intentions and insights through guided journaling and receive optional intuitive messages. \n9:15 PM – Evening Wind Down\nRelax under the stars with free time for the hot tub\, gentle conversation\, or peaceful solitude. \nSaturday\, September 13 – Awakening & Release\n8:00 AM – Breakfast\nEnjoy a wholesome morning meal to fuel your day of healing and connection. \n9:30 AM – Heart-Opening Sound Bath (Outdoors\, Weather Permitting)\nBegin your day with sound healing focused on opening and balancing the heart chakra. \n10:30 AM – Chakra Dance & Energy Activation\nMove intuitively through stretches and chakra-aligned movement to awaken the body and energy field. \n11:30 AM – Integration Time\nTime to rest\, explore the grounds\, sit in stillness by the river\, or simply be. \n12:30 PM – Lunch\nNourish your body with a lovingly prepared meal. \n2:00 PM – Forest Bathing & Beach Reflection\nTake a slow\, mindful walk in silence through the forest\, ending at the beach to ground\, reflect\, and reconnect with nature. \n3:30 PM – Free Time\nRelax at the beach\, nap\, enjoy the hot tub\, or wander the castle grounds at your own pace. \n6:00 PM – Dinner\nGather again for a heartwarming meal and soulful conversation. \n7:30 PM – Evening Reflection + Mini Tarot Readings\nContinue your inner journey with journaling\, gratitude\, and optional intuitive guidance. \n8:00 PM – Sacred Fire Ceremony\nRelease\, surrender\, and let go of what no longer serves you in a powerful ritual beneath the stars. \n9:00 PM – Evening Rest & Renewal\nStay by the fire\, soak in the hot tub\, or wind down for a peaceful night’s sleep. \nSunday\, September 14 – Integration & Departure\n8:00 AM – Breakfast \n9:30 AM – Breathwork\, Meditation & Movement\nA gentle fusion of breath\, meditation\, movement\, and sound to center and awaken your spirit one final time. \n10:30 AM – Intention Setting & Inner Circle Closing\nGather in sacred circle to set intentions\, share reflections\, and seal your journey in gratitude. \n11:30 AM – Free Time\nTake a final moment to walk the grounds\, journal\, or sit in stillness. \n12:00 PM – Farewell Lunch \n1:30 PM – Departure at Your Leisure\nLeave feeling lighter\, clearer\, and deeply renewed — ready to carry this peace with you.
URL:https://museenlighten.com/event/spiritual-wellness-serenity-soul-retreat/
LOCATION:Clonmel Castle\, 150 Prospect Street\, Port Dover\, Ontario\, N0A 1N1\, Canada
ATTACH;FMTTYPE=image/jpeg:https://museenlighten.com/wp-content/uploads/2025/05/IMG_5923-e1748724966401.jpg
END:VEVENT
BEGIN:VEVENT
DTSTART;TZID=America/Toronto:20250907T100000
DTEND;TZID=America/Toronto:20250907T160000
DTSTAMP:20260423T112450
CREATED:20250604T181243Z
LAST-MODIFIED:20250629T230248Z
UID:10000004-1757239200-1757260800@museenlighten.com
SUMMARY:Newmarket Holistic Healing Fair
DESCRIPTION:✨ Exciting News! ✨ \nI’ll be a vendor at the Newmarket Holistic Healing Fair on Sunday\, September 7\, 2025\n🕙 10:00 AM – 4:00 PM \n📍 Newmarket Community Centre – 200 Doug Duncan Dr\, Newmarket\, ON L3Y 3Y9 \nStop by my table for an intuitive tarot reading — a powerful way to gain clarity\, direction\, and peace of mind. 🔮 \n🌸 Spend the day with friends and family exploring a variety of incredible holistic vendors and wellness offerings. You never know what soulful treasures you’ll find! \n💫 Pre-book your reading to secure your time and avoid waiting.\n📩 Message me to reserve your spot or use my contact form to get in touch. \nI look forward to seeing you there and sharing in this beautiful day of healing and connection!
URL:https://museenlighten.com/event/newmarket-holistic-healing-fair/
LOCATION:Newmarket Community Center\, 200 Doug Duncan Drive\, Newmarket\, Ontario\, L3Y 3Y9\, Canada
ATTACH;FMTTYPE=image/jpeg:https://museenlighten.com/wp-content/uploads/2025/06/Picture-of-Sue-Muise2.jpg
END:VEVENT
BEGIN:VEVENT
DTSTART;TZID=America/Toronto:20250810T100000
DTEND;TZID=America/Toronto:20250810T160000
DTSTAMP:20260423T112450
CREATED:20250604T140048Z
LAST-MODIFIED:20250629T230411Z
UID:10000003-1754820000-1754841600@museenlighten.com
SUMMARY:Ancaster Holistic Healing Fair
DESCRIPTION:✨ Exciting News! ✨ \nI’ll be a vendor at the Ancaster Holistic Healing Fair on Sunday\, August 10\, 2025🕙 10:00 AM – 4:00 PM \n📍 Ancaster Fairgrounds – 630 Trinity Rd S\, Jerseyville\, ON L0R 1R0 \nCome visit my table for an intuitive tarot reading — a beautiful way to receive clarity\, insight\, and guidance on your journey. 🔮 \n🌿 Make it a soul-nourishing day with family and friends.✨ Explore a variety of amazing holistic vendors — you never know what treasures you’ll discover! \n💫 Pre-book your reading to secure your spot and skip the wait. \n📩 Message me to reserve or use my contact form to get in touch \nCan’t wait to see you there and share in the magic of the day!
URL:https://museenlighten.com/event/ancaster-holistic-healing-fair/
LOCATION:Ancaster Fair Grounds\, 630 Trinity Rd S\, Jerseyville\, Ontario\, \, L0R 1R0\, Canada
ATTACH;FMTTYPE=image/jpeg:https://museenlighten.com/wp-content/uploads/2025/06/Picture-of-Sue-Muise2.jpg
END:VEVENT
BEGIN:VEVENT
DTSTART;TZID=America/Toronto:20250712T090000
DTEND;TZID=America/Toronto:20250712T160000
DTSTAMP:20260423T112450
CREATED:20250517T221832Z
LAST-MODIFIED:20250615T020141Z
UID:10000001-1752310800-1752336000@museenlighten.com
SUMMARY:Spiritual Wellness Retreat
DESCRIPTION:🌿 One Day Spiritual Wellness Retreat at the Lavender Farm \nBreathe. Relax. Reconnect. \nEscape the chaos of everyday life and immerse yourself in the soothing embrace of nature at our Spiritual Wellness Retreat—a transformative experience nestled within the peaceful beauty of a lavender farm. Surrounded by fragrant blooms\, gentle breezes\, and open skies\, this retreat is designed to help you reclaim your inner calm\, restore balance\, and renew your soul. \n  \n🌸 Why Join the Retreat? \nLife moves fast. Responsibilities pile up\, stress builds\, and we often forget to pause and care for ourselves. This retreat is a sacred pause—a chance to slow down\, let go of overwhelm\, and reconnect with what truly matters. \nHere’s why this experience is unlike any other: \nTranquil Setting: The lavender fields offer a natural sanctuary\, inviting you to relax and be fully present in the moment. \nGuided Healing: Through gentle workshops\, meditations\, and spiritual practices\, you’ll be guided back to peace\, clarity\, and purpose. \nLike-Minded Community: Connect with others on similar journeys of healing\, self-discovery\, and transformation. \n  \n✨ What You’ll Gain \nInner Peace & Stillness: Learn how to quiet the mind\, release inner tension\, and access a deeper sense of calm. \nRejuvenation of Body & Spirit: Reconnect with your soul and leave feeling refreshed\, grounded\, and emotionally restored. \nCoping Strategies: Gain practical tools to help you manage stress\, anxiety\, and emotional overwhelm—even after the retreat ends. \nClarity & Direction: Whether you’re at a crossroads or simply need a reset\, you’ll return with new insight\, intention\, and strength. \nWhole-Being Wellness: Nourish every part of yourself—mentally\, physically\, emotionally\, and spiritually. \n  \n🌿 A Sacred Invitation to De-Stress and Restore \nThis retreat is for anyone ready to step away from the busyness of life and experience a return to peace. Whether you’re feeling burnt out\, going through a major life change\, or simply seeking a deeper connection to yourself\, this is your opportunity to rest\, reset\, and rise. \n  \nLet the lavender guide you. Let the stillness heal you. \nLet your soul breathe again. \n  \n\n🌺 What to Expect During the Retreat \nOur time together will be thoughtfully curated to promote deep healing\, peace\, and spiritual rejuvenation. Each activity is designed to gently guide you back to your center and open your heart to greater clarity and connection. \n  \nYou’ll enjoy: \n  \n🌸 Sound Bath Meditation with Heart Chakra Singing Bowl \nSink into the vibrational frequencies of a heart-opening sound bath. The soothing tones of the heart chakra bowl will help release emotional blockages and promote healing\, calm\, and balance. \n  \n🎨 Intuitive Guided Painting \nExplore your inner world through creative expression. No artistic experience is necessary—this is a soulful activity to let your intuition lead\, reveal hidden emotions\, and tap into your spirit’s voice. \n  \n🧘 Gentle Beginner Yoga \nSoft\, beginner-friendly movements to help you reconnect with your body\, improve energy flow\, and invite a sense of peace and grounding into your day. \n  \n🔮 Mini Tarot Readings (Time Permitting) \nReceive brief yet insightful guidance in between sessions to help you gain clarity and direction on your path forward. \n  \n🥗 Nourishing Nutritional Lunch \nEnjoy a wholesome\, health-conscious lunch made with love to fuel your body and support your wellness journey. \n  \n🌻 Soulful Connections with Like-Minded Individuals \nYou’ll be surrounded by a compassionate community of people on similar spiritual journeys—creating space for shared healing\, open hearts\, and meaningful conversations \n  \n🎁 A Gift of Peace to Take Home \n\nAs a heartfelt reminder of your day of healing and renewal\, you’ll receive a beautiful hand-tied bouquet of lavender to take home with you.\nThis calming gift isn’t just a fragrant keepsake—it’s a symbol of the peace\, clarity\, and tranquility you cultivated during the retreat. As you place it in your home\, let its soothing scent and gentle energy continue to fill your space with the calm and serenity of the lavender fields.\nLet this bouquet be a gentle daily reminder:\n\n\nYou are centered. You are whole. You carry peace within you.\nCome as you are. Leave renewed.\n\n\nLet this day be a gift to yourself—a step toward the peace you’ve been seeking\, wrapped in the calming essence of lavender and supported by healing practices that nourish your mind\, body\, and spirit.\n\n\n🌿 Reserve Your Spot Today\n\n\n\nSpaces are limited to keep this experience intimate and sacred. If your soul is craving peace\, healing\, and connection—this retreat is calling you.\n\n✨ Invest in yourself. You deserve this time to heal\, grow\, and reconnect.\n✅ Date: Saturday July 12\, 2025\n✅ Time: 9:00am – 4:00pm\n✅ Location: Lavender Valley Farm – 5505 6 Line\, Cookstown\, ON L0L 1L0 (South of Innisfil and Barrie Ontario)\n✅ Investment: $297.00 + HST✅ Includes: All activities\, lunch\, and materials \n✨ Click to register and begin your journey back to peace. \nYour peace of mind matters—don’t hesitate to reach out if you’re wondering about anything at all. Click here to contact us.\n\nLet the lavender calm your spirit. Let this be your time to breathe again. 🌸\n\n\n\nWhat the day entails:\n\n\n\n\n\n\n🌿 Your Day of Peace & Rejuvenation \nA Soulful Flow of Healing\, Creativity\, and Connection \n  \n9:00 – 9:30 AM | Warm Welcome & Check-In \nArrive\, settle in\, and soak up the calming energy of the lavender fields as you’re greeted with love and intention. \n  \n9:30 – 10:30 AM | Morning Meditation & Heart Chakra Sound Bath \nBegin your journey inward with a gentle guided meditation and healing vibrations from the heart chakra singing bowl—opening your heart to peace and emotional clarity. \n10:30 – 12:30 PM | Expressive Intuitive Painting \nUnleash your creativity and connect with your inner voice through a soulful painting experience—no experience needed\, just your open heart. \n  \n12:30 – 1:30 PM | Nourishing Lunch \nEnjoy a beautifully prepared\, nutritious meal while connecting with like-minded souls in a relaxed\, loving atmosphere. \n  \n1:30 – 2:30 PM | Soul-Soothing Gentle Yoga \nBreathe\, stretch\, and move with ease through beginner-friendly yoga that nurtures your body and brings you back into balance. \n  \n2:30 – 3:15 PM | Intentional Journaling & Gratitude Practice \nReflect on your journey and plant seeds for your future through mindful journaling and heartfelt gratitude—a powerful practice to carry peace into your daily life. \n  \n3:15 – 4:00 PM | Free Time: Lavender Farm Shop & Mini Tarot Readings \nBrowse the charming farm shop or receive a mini 3-card tarot reading for gentle guidance and inspiration\, as time and space allow.
URL:https://museenlighten.com/event/spiritual-wellness-retreat/
LOCATION:Lavender Valley Farm\, 5505 6 Line\, Cookstown\, Ontario\, L0L1L0\, Canada
ATTACH;FMTTYPE=image/jpeg:https://museenlighten.com/wp-content/uploads/2025/05/Lavender-only.jpg
END:VEVENT
END:VCALENDAR